BEGIN:VCALENDAR
VERSION:2.0
PRODID:-//Kita P Music - ECPv6.15.20//NONSGML v1.0//EN
CALSCALE:GREGORIAN
METHOD:PUBLISH
X-WR-CALNAME:Kita P Music
X-ORIGINAL-URL:https://kitapmusic.com
X-WR-CALDESC:Events for Kita P Music
REFRESH-INTERVAL;VALUE=DURATION:PT1H
X-Robots-Tag:noindex
X-PUBLISHED-TTL:PT1H
BEGIN:VTIMEZONE
TZID:UTC
BEGIN:STANDARD
TZOFFSETFROM:+0000
TZOFFSETTO:+0000
TZNAME:UTC
DTSTART:20250101T000000
END:STANDARD
END:VTIMEZONE
BEGIN:VEVENT
DTSTART;TZID=UTC:20260509T180000
DTEND;TZID=UTC:20260509T210000
DTSTAMP:20260423T130041
CREATED:20260406T165308Z
LAST-MODIFIED:20260407T095818Z
UID:3251-1778349600-1778360400@kitapmusic.com
SUMMARY:NU May 9\, 2026
DESCRIPTION:Presented by Kita P Music x HBG GLIDES LLC\nFreshly prepared food by Chef Eli of Koki Latin Cuisine\nVisual Artist: Julia Mallory / The Black Mermaid/ Owner of Ten OH! Six \nMusic by: Pishima & kANDi: k(ita)ANDi(saac) & Kita P x Black Licorice \nHosted by: Malcolm Xtra\, Owner of Xtra Xtra Productions\nEarly-Bird Tickets (sale ends April 24th\, 7pm) – $25 / Regular Ticket Price ( & door price) – $40\n \nCan’t Attend in Person?\nLivestream Tickets AVAILABLE TIL 7pm MAY 8TH! – $13 \nExperience Nu Underground: Art. Food. Music. Dopeness. from anywhere with a Livestream Ticket! \nHow It WorksA unique link to the livestream will be emailed to you on May 9\, 2026 at the email address used for your purchase.Please check your spam fo \nlder if you don’t see it by 5 PM EST.The broadcast will begin between at 6:45 PM & 7:00 PM EST\, with live performances starting shortly thereafter. \nRequirementsYou’ll need a stable internet connection and a supported web browser (Chrome\, Firefox\, Safari).You can view the stream on any laptop\, desktop\, smartphone\, or tablet. \nImportant Notes \nALL tickets are final sale and non-refundable. \nPlease do not share or record the livestream. \n– – – PAST EVENTS – – –\nBlack Friday 2025!
URL:https://kitapmusic.com/ticketmaster/nu-may-9-2026/
LOCATION:Collab Create HBG\, 100 N 10th Street\, 2nd Floor\, Harrisburg\, 17101
ATTACH;FMTTYPE=image/png:https://kitapmusic.com/wp-content/uploads/2026/04/Kita-P-May-9-Version-2B-updated-price.png
END:VEVENT
END:VCALENDAR